Package: flowPeaks Version: 1.50.0 Command: chmod a+r flowPeaks -R && E:\biocbuild\bbs-3.19-bioc\R\bin\R.exe CMD build --keep-empty-dirs --no-resave-data flowPeaks StartedAt: 2024-10-16 19:15:02 -0400 (Wed, 16 Oct 2024) EndedAt: 2024-10-16 19:16:24 -0400 (Wed, 16 Oct 2024) EllapsedTime: 82.0 seconds RetCode: 0 Status: OK PackageFile: flowPeaks_1.50.0.tar.gz PackageFileSize: 3.892 MiB