Package: flowPloidy Version: 1.30.0 Command: /Library/Frameworks/R.framework/Resources/bin/R CMD build --keep-empty-dirs --no-resave-data flowPloidy StartedAt: 2024-10-17 00:38:48 -0400 (Thu, 17 Oct 2024) EndedAt: 2024-10-17 00:39:33 -0400 (Thu, 17 Oct 2024) EllapsedTime: 45.6 seconds RetCode: 0 Status: OK PackageFile: flowPloidy_1.30.0.tar.gz PackageFileSize: 2.334 MiB