Package: flowViz Version: 1.68.0 Command: /home/biocbuild/R/R-beta-2024-04-15_r86425/bin/R CMD build --keep-empty-dirs --no-resave-data flowViz StartedAt: 2024-05-09 00:22:11 -0000 (Thu, 09 May 2024) EndedAt: 2024-05-09 00:23:54 -0000 (Thu, 09 May 2024) EllapsedTime: 103.1 seconds RetCode: 0 Status: OK PackageFile: flowViz_1.68.0.tar.gz PackageFileSize: 503.5 KiB