Package: flowViz Version: 1.68.0 Command: /Library/Frameworks/R.framework/Resources/bin/R CMD build --keep-empty-dirs --no-resave-data flowViz StartedAt: 2024-10-16 19:20:16 -0400 (Wed, 16 Oct 2024) EndedAt: 2024-10-16 19:23:43 -0400 (Wed, 16 Oct 2024) EllapsedTime: 206.2 seconds RetCode: 0 Status: OK PackageFile: flowViz_1.68.0.tar.gz PackageFileSize: 1.183 MiB