Package: flowViz Version: 1.68.0 Command: /Library/Frameworks/R.framework/Resources/bin/R CMD check --install=check:flowViz.install-out.txt --library=/Library/Frameworks/R.framework/Resources/library --no-vignettes --timings flowViz_1.68.0.tar.gz StartedAt: 2024-10-17 05:28:55 -0400 (Thu, 17 Oct 2024) EndedAt: 2024-10-17 05:33:43 -0400 (Thu, 17 Oct 2024) EllapsedTime: 287.5 seconds RetCode: 0 Status: OK CheckDir: flowViz.Rcheck Warnings: 0