Package: flowViz Version: 1.68.0 Command: /home/biocbuild/bbs-3.19-bioc/R/bin/R CMD build --keep-empty-dirs --no-resave-data flowViz StartedAt: 2024-10-16 18:33:10 -0400 (Wed, 16 Oct 2024) EndedAt: 2024-10-16 18:34:24 -0400 (Wed, 16 Oct 2024) EllapsedTime: 74.1 seconds RetCode: 0 Status: OK PackageFile: flowViz_1.68.0.tar.gz PackageFileSize: 937.2 KiB