Package: flowViz Version: 1.68.0 Command: F:\biocbuild\bbs-3.19-bioc\R\bin\R.exe CMD INSTALL flowViz StartedAt: 2024-06-26 15:46:39 -0400 (Wed, 26 Jun 2024) EndedAt: 2024-06-26 15:46:59 -0400 (Wed, 26 Jun 2024) EllapsedTime: 20.6 seconds RetCode: 0 Status: OK