Package: flowViz Version: 1.68.0 Command: rm -rf flowViz.buildbin-libdir && mkdir flowViz.buildbin-libdir && E:\biocbuild\bbs-3.19-bioc\R\bin\R.exe CMD INSTALL --build --library=flowViz.buildbin-libdir flowViz_1.68.0.tar.gz StartedAt: 2024-10-17 07:48:46 -0400 (Thu, 17 Oct 2024) EndedAt: 2024-10-17 07:49:20 -0400 (Thu, 17 Oct 2024) EllapsedTime: 33.7 seconds RetCode: 0 Status: OK PackageFile: flowViz_1.68.0.zip PackageFileSize: 953.7 KiB