Package: flowViz Version: 1.68.0 Command: chmod a+r flowViz -R && E:\biocbuild\bbs-3.19-bioc\R\bin\R.exe CMD build --keep-empty-dirs --no-resave-data flowViz StartedAt: 2024-10-16 19:15:47 -0400 (Wed, 16 Oct 2024) EndedAt: 2024-10-16 19:21:22 -0400 (Wed, 16 Oct 2024) EllapsedTime: 335.1 seconds RetCode: 0 Status: OK PackageFile: flowViz_1.68.0.tar.gz PackageFileSize: 661.9 KiB