Package: flowViz Version: 1.68.0 Command: E:\biocbuild\bbs-3.19-bioc\R\bin\R.exe CMD INSTALL flowViz StartedAt: 2024-10-16 16:21:04 -0400 (Wed, 16 Oct 2024) EndedAt: 2024-10-16 16:21:28 -0400 (Wed, 16 Oct 2024) EllapsedTime: 24.6 seconds RetCode: 0 Status: OK