Package: flowWorkspace Version: 4.16.0 Command: rm -rf flowWorkspace.buildbin-libdir && mkdir flowWorkspace.buildbin-libdir && /Users/biocbuild/BBS/utils/build-universal.sh flowWorkspace_4.16.0.tar.gz /Library/Frameworks/R.framework/Resources/bin/R flowWorkspace.buildbin-libdir StartedAt: 2024-06-10 00:18:44 -0400 (Mon, 10 Jun 2024) EndedAt: 2024-06-10 00:21:14 -0400 (Mon, 10 Jun 2024) EllapsedTime: 149.3 seconds RetCode: 0 Status: OK PackageFile: flowWorkspace_4.16.0.tgz PackageFileSize: 6.246 MiB