Package: flowWorkspace Version: 4.16.0 Command: /Library/Frameworks/R.framework/Resources/bin/R CMD build --keep-empty-dirs --no-resave-data flowWorkspace StartedAt: 2024-10-16 19:20:34 -0400 (Wed, 16 Oct 2024) EndedAt: 2024-10-16 19:26:48 -0400 (Wed, 16 Oct 2024) EllapsedTime: 373.9 seconds RetCode: 0 Status: OK PackageFile: flowWorkspace_4.16.0.tar.gz PackageFileSize: 5.7 MiB