Package: flowWorkspace Version: 4.16.0 Command: rm -rf flowWorkspace.buildbin-libdir && mkdir flowWorkspace.buildbin-libdir && E:\biocbuild\bbs-3.19-bioc\R\bin\R.exe CMD INSTALL --build --library=flowWorkspace.buildbin-libdir flowWorkspace_4.16.0.tar.gz StartedAt: 2024-10-17 07:48:50 -0400 (Thu, 17 Oct 2024) EndedAt: 2024-10-17 07:52:58 -0400 (Thu, 17 Oct 2024) EllapsedTime: 248.7 seconds RetCode: 0 Status: OK PackageFile: flowWorkspace_4.16.0.zip PackageFileSize: 5.225 MiB