Package: flowWorkspace Version: 4.16.0 Command: chmod a+r flowWorkspace -R && E:\biocbuild\bbs-3.19-bioc\R\bin\R.exe CMD build --keep-empty-dirs --no-resave-data flowWorkspace StartedAt: 2024-10-16 19:15:51 -0400 (Wed, 16 Oct 2024) EndedAt: 2024-10-16 19:20:01 -0400 (Wed, 16 Oct 2024) EllapsedTime: 250.2 seconds RetCode: 0 Status: OK PackageFile: flowWorkspace_4.16.0.tar.gz PackageFileSize: 3.781 MiB