Package: flowcatchR Version: 1.38.0 Command: /Library/Frameworks/R.framework/Resources/bin/R CMD check --install=check:flowcatchR.install-out.txt --library=/Library/Frameworks/R.framework/Resources/library --no-vignettes --timings flowcatchR_1.38.0.tar.gz StartedAt: 2024-06-09 20:24:41 -0400 (Sun, 09 Jun 2024) EndedAt: 2024-06-09 20:26:00 -0400 (Sun, 09 Jun 2024) EllapsedTime: 78.6 seconds RetCode: 0 Status: OK CheckDir: flowcatchR.Rcheck Warnings: 0