Package: flowcatchR Version: 1.38.0 Command: /home/biocbuild/bbs-3.19-bioc/R/bin/R CMD build --keep-empty-dirs --no-resave-data flowcatchR StartedAt: 2024-10-16 18:31:21 -0400 (Wed, 16 Oct 2024) EndedAt: 2024-10-16 18:31:56 -0400 (Wed, 16 Oct 2024) EllapsedTime: 35.1 seconds RetCode: 0 Status: OK PackageFile: flowcatchR_1.38.0.tar.gz PackageFileSize: 6.745 MiB