Package: fobitools Version: 1.12.0 Command: /Library/Frameworks/R.framework/Resources/bin/R CMD build --keep-empty-dirs --no-resave-data fobitools StartedAt: 2024-10-16 19:20:51 -0400 (Wed, 16 Oct 2024) EndedAt: 2024-10-16 19:23:28 -0400 (Wed, 16 Oct 2024) EllapsedTime: 156.6 seconds RetCode: 0 Status: OK PackageFile: fobitools_1.12.0.tar.gz PackageFileSize: 4.655 MiB