Package: frmaTools Version: 1.56.0 Command: rm -rf frmaTools.buildbin-libdir && mkdir frmaTools.buildbin-libdir && /Users/biocbuild/BBS/utils/build-universal.sh frmaTools_1.56.0.tar.gz /Library/Frameworks/R.framework/Resources/bin/R frmaTools.buildbin-libdir StartedAt: 2024-10-18 18:33:36 -0400 (Fri, 18 Oct 2024) EndedAt: 2024-10-18 18:33:43 -0400 (Fri, 18 Oct 2024) EllapsedTime: 6.7 seconds RetCode: 0 Status: OK PackageFile: frmaTools_1.56.0.tgz PackageFileSize: 184.7 KiB