Package: frmaTools Version: 1.56.0 Command: /home/biocbuild/R/R-beta-2024-04-15_r86425/bin/R CMD check --install=check:frmaTools.install-out.txt --library=/home/biocbuild/R/R-beta-2024-04-15_r86425/site-library --no-vignettes --timings frmaTools_1.56.0.tar.gz StartedAt: 2024-05-09 07:31:46 -0000 (Thu, 09 May 2024) EndedAt: 2024-05-09 07:32:35 -0000 (Thu, 09 May 2024) EllapsedTime: 49.1 seconds RetCode: 0 Status: OK CheckDir: frmaTools.Rcheck Warnings: 0