Package: frmaTools Version: 1.56.0 Command: /Library/Frameworks/R.framework/Resources/bin/R CMD build --keep-empty-dirs --no-resave-data frmaTools StartedAt: 2024-06-09 16:42:13 -0400 (Sun, 09 Jun 2024) EndedAt: 2024-06-09 16:42:33 -0400 (Sun, 09 Jun 2024) EllapsedTime: 19.2 seconds RetCode: 0 Status: OK PackageFile: frmaTools_1.56.0.tar.gz PackageFileSize: 157 KiB