Package: frmaTools Version: 1.56.0 Command: /Library/Frameworks/R.framework/Resources/bin/R CMD INSTALL frmaTools StartedAt: 2024-06-09 15:05:35 -0400 (Sun, 09 Jun 2024) EndedAt: 2024-06-09 15:06:09 -0400 (Sun, 09 Jun 2024) EllapsedTime: 33.5 seconds RetCode: 0 Status: OK