Package: frmaTools Version: 1.56.0 Command: /home/biocbuild/bbs-3.19-bioc/R/bin/R CMD build --keep-empty-dirs --no-resave-data frmaTools StartedAt: 2024-10-16 18:34:24 -0400 (Wed, 16 Oct 2024) EndedAt: 2024-10-16 18:34:38 -0400 (Wed, 16 Oct 2024) EllapsedTime: 14.0 seconds RetCode: 0 Status: OK PackageFile: frmaTools_1.56.0.tar.gz PackageFileSize: 73.28 KiB