Package: frmaTools Version: 1.56.0 Command: F:\biocbuild\bbs-3.19-bioc\R\bin\R.exe CMD INSTALL frmaTools StartedAt: 2024-06-26 15:42:54 -0400 (Wed, 26 Jun 2024) EndedAt: 2024-06-26 15:43:15 -0400 (Wed, 26 Jun 2024) EllapsedTime: 21.4 seconds RetCode: 0 Status: OK