Package: frmaTools Version: 1.56.0 Command: rm -rf frmaTools.buildbin-libdir && mkdir frmaTools.buildbin-libdir && E:\biocbuild\bbs-3.19-bioc\R\bin\R.exe CMD INSTALL --build --library=frmaTools.buildbin-libdir frmaTools_1.56.0.tar.gz StartedAt: 2024-10-17 07:49:07 -0400 (Thu, 17 Oct 2024) EndedAt: 2024-10-17 07:49:14 -0400 (Thu, 17 Oct 2024) EllapsedTime: 7.1 seconds RetCode: 0 Status: OK PackageFile: frmaTools_1.56.0.zip PackageFileSize: 106.4 KiB