Package: gDR Version: 1.2.0 Command: rm -rf gDR.buildbin-libdir && mkdir gDR.buildbin-libdir && /Users/biocbuild/BBS/utils/build-universal.sh gDR_1.2.0.tar.gz /Library/Frameworks/R.framework/Resources/bin/R gDR.buildbin-libdir StartedAt: 2024-06-11 11:19:15 -0400 (Tue, 11 Jun 2024) EndedAt: 2024-06-11 11:19:58 -0400 (Tue, 11 Jun 2024) EllapsedTime: 43.3 seconds RetCode: 0 Status: OK PackageFile: gDR_1.2.0.tgz PackageFileSize: 279.1 KiB