Package: gDR Version: 1.2.0 Command: /Library/Frameworks/R.framework/Resources/bin/R CMD build --keep-empty-dirs --no-resave-data gDR StartedAt: 2024-10-16 19:24:35 -0400 (Wed, 16 Oct 2024) EndedAt: 2024-10-16 19:26:35 -0400 (Wed, 16 Oct 2024) EllapsedTime: 119.1 seconds RetCode: 0 Status: OK PackageFile: gDR_1.2.0.tar.gz PackageFileSize: 276.9 KiB