Package: gDRstyle Version: 1.2.0 Command: /home/biocbuild/R/R-beta-2024-04-15_r86425/bin/R CMD build --keep-empty-dirs --no-resave-data gDRstyle StartedAt: 2024-05-09 00:26:36 -0000 (Thu, 09 May 2024) EndedAt: 2024-05-09 00:26:46 -0000 (Thu, 09 May 2024) EllapsedTime: 10.0 seconds RetCode: 0 Status: OK PackageFile: gDRstyle_1.2.0.tar.gz PackageFileSize: 729.9 KiB