Package: gDRstyle Version: 1.2.0 Command: /Library/Frameworks/R.framework/Resources/bin/R CMD build --keep-empty-dirs --no-resave-data gDRstyle StartedAt: 2024-10-16 19:24:59 -0400 (Wed, 16 Oct 2024) EndedAt: 2024-10-16 19:25:19 -0400 (Wed, 16 Oct 2024) EllapsedTime: 20.0 seconds RetCode: 0 Status: OK PackageFile: gDRstyle_1.2.0.tar.gz PackageFileSize: 598 KiB