Package: gDRstyle Version: 1.2.0 Command: /home/biocbuild/bbs-3.19-bioc/R/bin/R CMD check --install=check:gDRstyle.install-out.txt --library=/home/biocbuild/bbs-3.19-bioc/R/site-library --timings gDRstyle_1.2.0.tar.gz StartedAt: 2024-10-17 00:38:43 -0400 (Thu, 17 Oct 2024) EndedAt: 2024-10-17 00:39:42 -0400 (Thu, 17 Oct 2024) EllapsedTime: 59.2 seconds RetCode: 0 Status: OK CheckDir: gDRstyle.Rcheck Warnings: 0