Package: gDRstyle Version: 1.2.0 Command: rm -rf gDRstyle.buildbin-libdir && mkdir gDRstyle.buildbin-libdir && E:\biocbuild\bbs-3.19-bioc\R\bin\R.exe CMD INSTALL --build --library=gDRstyle.buildbin-libdir gDRstyle_1.2.0.tar.gz StartedAt: 2024-10-17 07:49:48 -0400 (Thu, 17 Oct 2024) EndedAt: 2024-10-17 07:50:07 -0400 (Thu, 17 Oct 2024) EllapsedTime: 19.0 seconds RetCode: 0 Status: OK PackageFile: gDRstyle_1.2.0.zip PackageFileSize: 667.6 KiB