Package: gDRstyle Version: 1.2.0 Command: chmod a+r gDRstyle -R && E:\biocbuild\bbs-3.19-bioc\R\bin\R.exe CMD build --keep-empty-dirs --no-resave-data gDRstyle StartedAt: 2024-10-16 19:19:45 -0400 (Wed, 16 Oct 2024) EndedAt: 2024-10-16 19:20:02 -0400 (Wed, 16 Oct 2024) EllapsedTime: 17.0 seconds RetCode: 0 Status: OK PackageFile: gDRstyle_1.2.0.tar.gz PackageFileSize: 598.3 KiB