Package: gDRstyle Version: 1.2.0 Command: E:\biocbuild\bbs-3.19-bioc\R\bin\R.exe CMD INSTALL gDRstyle StartedAt: 2024-10-16 16:36:04 -0400 (Wed, 16 Oct 2024) EndedAt: 2024-10-16 16:36:18 -0400 (Wed, 16 Oct 2024) EllapsedTime: 14.6 seconds RetCode: 0 Status: OK