Package: gINTomics Version: 1.0.0 Command: /Library/Frameworks/R.framework/Resources/bin/R CMD build --keep-empty-dirs --no-resave-data gINTomics StartedAt: 2024-10-17 01:22:20 -0400 (Thu, 17 Oct 2024) EndedAt: 2024-10-17 01:25:00 -0400 (Thu, 17 Oct 2024) EllapsedTime: 160.0 seconds RetCode: 0 Status: OK PackageFile: gINTomics_1.0.0.tar.gz PackageFileSize: 3.481 MiB