Package: gINTomics Version: 1.0.0 Command: /Library/Frameworks/R.framework/Resources/bin/R CMD check --install=check:gINTomics.install-out.txt --library=/Library/Frameworks/R.framework/Resources/library --no-vignettes --timings gINTomics_1.0.0.tar.gz StartedAt: 2024-05-29 21:09:28 -0400 (Wed, 29 May 2024) EndedAt: 2024-05-29 21:19:58 -0400 (Wed, 29 May 2024) EllapsedTime: 629.3 seconds RetCode: 0 Status: OK CheckDir: gINTomics.Rcheck Warnings: 0