Package: gINTomics Version: 1.0.0 Command: /home/biocbuild/bbs-3.19-bioc/R/bin/R CMD INSTALL gINTomics StartedAt: 2024-10-16 16:30:23 -0400 (Wed, 16 Oct 2024) EndedAt: 2024-10-16 16:31:33 -0400 (Wed, 16 Oct 2024) EllapsedTime: 70.4 seconds RetCode: 0 Status: OK