Package: gINTomics Version: 1.0.0 Command: E:\biocbuild\bbs-3.19-bioc\R\bin\R.exe CMD INSTALL gINTomics StartedAt: 2024-10-16 16:59:37 -0400 (Wed, 16 Oct 2024) EndedAt: 2024-10-16 17:01:29 -0400 (Wed, 16 Oct 2024) EllapsedTime: 112.0 seconds RetCode: 0 Status: OK