Package: gaga Version: 2.50.0 Command: E:\biocbuild\bbs-3.19-bioc\R\bin\R.exe CMD check --no-multiarch --install=check:gaga.install-out.txt --library=E:\biocbuild\bbs-3.19-bioc\R\library --no-vignettes --timings gaga_2.50.0.tar.gz StartedAt: 2024-10-17 01:36:53 -0400 (Thu, 17 Oct 2024) EndedAt: 2024-10-17 01:38:02 -0400 (Thu, 17 Oct 2024) EllapsedTime: 69.3 seconds RetCode: 0 Status: WARNINGS CheckDir: gaga.Rcheck Warnings: 1