Package: garfield Version: 1.32.0 Command: rm -rf garfield.buildbin-libdir && mkdir garfield.buildbin-libdir && /Users/biocbuild/BBS/utils/build-universal.sh garfield_1.32.0.tar.gz /Library/Frameworks/R.framework/Resources/bin/R garfield.buildbin-libdir StartedAt: 2024-10-18 18:35:10 -0400 (Fri, 18 Oct 2024) EndedAt: 2024-10-18 18:35:25 -0400 (Fri, 18 Oct 2024) EllapsedTime: 15.0 seconds RetCode: 0 Status: OK PackageFile: garfield_1.32.0.tgz PackageFileSize: 388 KiB