Package: garfield Version: 1.32.0 Command: /Library/Frameworks/R.framework/Resources/bin/R CMD check --install=check:garfield.install-out.txt --library=/Library/Frameworks/R.framework/Resources/library --no-vignettes --timings garfield_1.32.0.tar.gz StartedAt: 2024-10-17 22:12:44 -0400 (Thu, 17 Oct 2024) EndedAt: 2024-10-17 22:13:15 -0400 (Thu, 17 Oct 2024) EllapsedTime: 30.5 seconds RetCode: 0 Status: WARNINGS CheckDir: garfield.Rcheck Warnings: 1