Package: garfield Version: 1.32.0 Command: rm -rf garfield.buildbin-libdir && mkdir garfield.buildbin-libdir && E:\biocbuild\bbs-3.19-bioc\R\bin\R.exe CMD INSTALL --build --library=garfield.buildbin-libdir garfield_1.32.0.tar.gz StartedAt: 2024-10-17 07:49:23 -0400 (Thu, 17 Oct 2024) EndedAt: 2024-10-17 07:49:38 -0400 (Thu, 17 Oct 2024) EllapsedTime: 15.3 seconds RetCode: 0 Status: OK PackageFile: garfield_1.32.0.zip PackageFileSize: 711.6 KiB