Package: gatom Version: 1.2.0 Command: /Library/Frameworks/R.framework/Resources/bin/R CMD build --keep-empty-dirs --no-resave-data gatom StartedAt: 2024-06-09 21:50:06 -0400 (Sun, 09 Jun 2024) EndedAt: 2024-06-09 21:56:08 -0400 (Sun, 09 Jun 2024) EllapsedTime: 361.6 seconds RetCode: 0 Status: OK PackageFile: gatom_1.2.0.tar.gz PackageFileSize: 1.611 MiB