Package: gatom Version: 1.2.0 Command: /Library/Frameworks/R.framework/Resources/bin/R CMD check --install=check:gatom.install-out.txt --library=/Library/Frameworks/R.framework/Resources/library --no-vignettes --timings gatom_1.2.0.tar.gz StartedAt: 2024-06-10 16:16:08 -0400 (Mon, 10 Jun 2024) EndedAt: 2024-06-10 16:21:55 -0400 (Mon, 10 Jun 2024) EllapsedTime: 347.8 seconds RetCode: 0 Status: OK CheckDir: gatom.Rcheck Warnings: 0