Package: gatom Version: 1.2.0 Command: /home/biocbuild/R/R-beta-2024-04-15_r86425/bin/R CMD build --keep-empty-dirs --no-resave-data gatom StartedAt: 2024-05-09 00:24:49 -0000 (Thu, 09 May 2024) EndedAt: 2024-05-09 00:47:48 -0000 (Thu, 09 May 2024) EllapsedTime: 1378.8 seconds RetCode: 0 Status: OK PackageFile: gatom_1.2.0.tar.gz PackageFileSize: 1.87 MiB