Package: gatom Version: 1.2.0 Command: rm -rf gatom.buildbin-libdir && mkdir gatom.buildbin-libdir && /Users/biocbuild/BBS/utils/build-universal.sh gatom_1.2.0.tar.gz /Library/Frameworks/R.framework/Resources/bin/R gatom.buildbin-libdir StartedAt: 2024-10-17 16:11:53 -0400 (Thu, 17 Oct 2024) EndedAt: 2024-10-17 16:12:39 -0400 (Thu, 17 Oct 2024) EllapsedTime: 45.9 seconds RetCode: 0 Status: OK PackageFile: gatom_1.2.0.tgz PackageFileSize: 1.788 MiB