Package: gatom Version: 1.2.0 Command: /Library/Frameworks/R.framework/Resources/bin/R CMD build --keep-empty-dirs --no-resave-data gatom StartedAt: 2024-10-16 19:23:45 -0400 (Wed, 16 Oct 2024) EndedAt: 2024-10-16 19:35:02 -0400 (Wed, 16 Oct 2024) EllapsedTime: 676.6 seconds RetCode: 0 Status: OK PackageFile: gatom_1.2.0.tar.gz PackageFileSize: 1.61 MiB