Package: gatom Version: 1.2.0 Command: chmod a+r gatom -R && F:\biocbuild\bbs-3.19-bioc\R\bin\R.exe CMD build --keep-empty-dirs --no-resave-data gatom StartedAt: 2024-06-26 19:02:45 -0400 (Wed, 26 Jun 2024) EndedAt: 2024-06-26 19:03:27 -0400 (Wed, 26 Jun 2024) EllapsedTime: 42.2 seconds RetCode: 1 Status: ERROR PackageFile: None PackageFileSize: NA