Package: gcrma Version: 2.76.0 Command: rm -rf gcrma.buildbin-libdir && mkdir gcrma.buildbin-libdir && /Users/biocbuild/BBS/utils/build-universal.sh gcrma_2.76.0.tar.gz /Library/Frameworks/R.framework/Resources/bin/R gcrma.buildbin-libdir StartedAt: 2024-10-18 18:35:46 -0400 (Fri, 18 Oct 2024) EndedAt: 2024-10-18 18:36:04 -0400 (Fri, 18 Oct 2024) EllapsedTime: 18.2 seconds RetCode: 0 Status: OK PackageFile: gcrma_2.76.0.tgz PackageFileSize: 388.7 KiB