Package: gcrma Version: 2.76.0 Command: /Library/Frameworks/R.framework/Resources/bin/R CMD check --install=check:gcrma.install-out.txt --library=/Library/Frameworks/R.framework/Resources/library --no-vignettes --timings gcrma_2.76.0.tar.gz StartedAt: 2024-10-17 22:17:55 -0400 (Thu, 17 Oct 2024) EndedAt: 2024-10-17 22:20:03 -0400 (Thu, 17 Oct 2024) EllapsedTime: 128.6 seconds RetCode: 0 Status: OK CheckDir: gcrma.Rcheck Warnings: 0