Package: gcrma Version: 2.76.0 Command: /Library/Frameworks/R.framework/Resources/bin/R CMD build --keep-empty-dirs --no-resave-data gcrma StartedAt: 2024-06-09 16:43:22 -0400 (Sun, 09 Jun 2024) EndedAt: 2024-06-09 16:43:42 -0400 (Sun, 09 Jun 2024) EllapsedTime: 20.1 seconds RetCode: 0 Status: OK PackageFile: gcrma_2.76.0.tar.gz PackageFileSize: 288 KiB