Package: gcrma Version: 2.76.0 Command: F:\biocbuild\bbs-3.19-bioc\R\bin\R.exe CMD check --no-multiarch --install=check:gcrma.install-out.txt --library=F:\biocbuild\bbs-3.19-bioc\R\library --no-vignettes --timings gcrma_2.76.0.tar.gz StartedAt: 2024-06-27 01:50:39 -0400 (Thu, 27 Jun 2024) EndedAt: 2024-06-27 01:53:05 -0400 (Thu, 27 Jun 2024) EllapsedTime: 146.6 seconds RetCode: 0 Status: OK CheckDir: gcrma.Rcheck Warnings: 0